BEGIN:VCALENDAR
VERSION:2.0
PRODID:-//Eventin//Event Calendar//EN
CALSCALE:GREGORIAN
METHOD:PUBLISH
BEGIN:VEVENT
UID:236d765a1354c20bf39da9021e4b94e7@brassfieldestate.com
SUMMARY:Wine Club Pickup Party
DESCRIPTION:Members and your loved ones\, enjoy a preview of the new releas
 es in your shipment and take home your club selections! Catering by local f
 an-favorite Saw Shop Public House.\nMember Tickets | Complimentary\nNon-Mem
 ber Guests | $25\n \nRSVP
LOCATION:Brassfield Estate Winery
DTSTAMP:20260421T161512Z
DTSTART:20260516T190000Z
DTEND:20260516T230000Z
END:VEVENT
END:VCALENDAR
